BEGIN:VCALENDAR
PRODID:-//TYPO3/NONSGML News system (news)//EN
VERSION:2.0
BEGIN:VEVENT
DTSTAMP:20230627T171136
DTSTART;VALUE=DATE:20231212T140000
DTEND;VALUE=DATE:20231214T180000
SUMMARY:Bremische Bürgerschaft: Bürgerschaftssitzungen im Dezember 2023
LOCATION:Bremen\,  Haus der Bremischen Bürgerschaft (Am Markt 20)
UID:news-239106@www.linksfraktion-bremen.de
END:VEVENT
END:VCALENDAR