BEGIN:VCALENDAR
PRODID:-//TYPO3/NONSGML News system (news)//EN
VERSION:2.0
BEGIN:VEVENT
DTSTAMP:20230627T170844
DTSTART;VALUE=DATE:20231211
SUMMARY:Arbeitssitzung der Fraktion 

UID:news-239104@www.linksfraktion-bremen.de
END:VEVENT
END:VCALENDAR