BEGIN:VCALENDAR
PRODID:-//TYPO3/NONSGML News system (news)//EN
VERSION:2.0
BEGIN:VEVENT
DTSTAMP:20230627T171208
DTSTART;VALUE=DATE:20231114T140000
DTEND;VALUE=DATE:20231116T180000
SUMMARY:Bremische Bürgerschaft: Bürgerschaftssitzungen im November 2023
LOCATION:Bremen\,  Haus der Bremischen Bürgerschaft (Am Markt 20)
UID:news-239105@www.linksfraktion-bremen.de
END:VEVENT
END:VCALENDAR